BEGIN:VCALENDAR
VERSION:2.0
PRODID:icalendar-ruby
CALSCALE:GREGORIAN
METHOD:PUBLISH
BEGIN:VEVENT
DTSTAMP:20260421T122054Z
UID:9-2702914@kahuluibaptist.com
DTSTART:20261025T201500Z
DTEND:20261025T220000Z
CLASS:PUBLIC
CREATED:20260421T004335
DESCRIPTION:
LAST-MODIFIED:20260421T004335
LOCATION:Kahului Baptist Church
SUMMARY:Sunday Service
URL;VALUE=URI:https://kahuluibaptist.com/events/sunday-service/2026-10-25
ATTACH;FILENAME=PXL_20230909_050730539-%281%29.jpg;FMTTYPE=image/jpeg:https
 ://dq5pwpg1q8ru0.cloudfront.net/2023/11/14/11/43/38/0dd064d7-293f-4cb3-afc
 7-6ad22f40dac8/PXL_20230909_050730539-%25281%2529.jpg
END:VEVENT
END:VCALENDAR
